BEGIN:VCALENDAR
VERSION:2.0
PRODID:icalendar-ruby
CALSCALE:GREGORIAN
METHOD:PUBLISH
BEGIN:VEVENT
DTSTAMP:20260424T113322Z
UID:8-272370@cornerstoneaugusta.org
DTSTART:20260930T223000Z
DTEND:20261001T000000Z
CLASS:PUBLIC
CREATED:20260423T231731
DESCRIPTION:
LAST-MODIFIED:20260423T231731
LOCATION:
SUMMARY:Youth Ministry
URL;VALUE=URI:https://www.cornerstoneaugusta.org/events/youth-ministry/2026
 -09-30
ATTACH;FILENAME=tim-mossholder-hOF1bWoet_Q-unsplash-1.jpg;FMTTYPE=image/jpe
 g:https://dq5pwpg1q8ru0.cloudfront.net/2025/09/17/19/41/11/31d9f3af-41b3-4
 59e-bc4c-b5316b38baf7/tim-mossholder-hOF1bWoet_Q-unsplash-1.jpg
END:VEVENT
END:VCALENDAR
